BEGIN:VCALENDAR
VERSION:2.0
PRODID:-//McFerrin Center for Entrepreneurship | TAMU - ECPv6.7.0//NONSGML v1.0//EN
CALSCALE:GREGORIAN
METHOD:PUBLISH
X-WR-CALNAME:McFerrin Center for Entrepreneurship | TAMU
X-ORIGINAL-URL:https://mcferrin.tamu.edu
X-WR-CALDESC:Events for McFerrin Center for Entrepreneurship | TAMU
REFRESH-INTERVAL;VALUE=DURATION:PT1H
X-Robots-Tag:noindex
X-PUBLISHED-TTL:PT1H
BEGIN:VTIMEZONE
TZID:America/Chicago
BEGIN:DAYLIGHT
TZOFFSETFROM:-0600
TZOFFSETTO:-0500
TZNAME:CDT
DTSTART:20260308T080000
END:DAYLIGHT
BEGIN:STANDARD
TZOFFSETFROM:-0500
TZOFFSETTO:-0600
TZNAME:CST
DTSTART:20261101T070000
END:STANDARD
BEGIN:DAYLIGHT
TZOFFSETFROM:-0600
TZOFFSETTO:-0500
TZNAME:CDT
DTSTART:20270314T080000
END:DAYLIGHT
BEGIN:STANDARD
TZOFFSETFROM:-0500
TZOFFSETTO:-0600
TZNAME:CST
DTSTART:20271107T070000
END:STANDARD
BEGIN:DAYLIGHT
TZOFFSETFROM:-0600
TZOFFSETTO:-0500
TZNAME:CDT
DTSTART:20280312T080000
END:DAYLIGHT
BEGIN:STANDARD
TZOFFSETFROM:-0500
TZOFFSETTO:-0600
TZNAME:CST
DTSTART:20281105T070000
END:STANDARD
BEGIN:DAYLIGHT
TZOFFSETFROM:-0600
TZOFFSETTO:-0500
TZNAME:CDT
DTSTART:20290311T080000
END:DAYLIGHT
BEGIN:STANDARD
TZOFFSETFROM:-0500
TZOFFSETTO:-0600
TZNAME:CST
DTSTART:20291104T070000
END:STANDARD
BEGIN:DAYLIGHT
TZOFFSETFROM:-0600
TZOFFSETTO:-0500
TZNAME:CDT
DTSTART:20300310T080000
END:DAYLIGHT
BEGIN:STANDARD
TZOFFSETFROM:-0500
TZOFFSETTO:-0600
TZNAME:CST
DTSTART:20301103T070000
END:STANDARD
BEGIN:DAYLIGHT
TZOFFSETFROM:-0600
TZOFFSETTO:-0500
TZNAME:CDT
DTSTART:20310309T080000
END:DAYLIGHT
BEGIN:STANDARD
TZOFFSETFROM:-0500
TZOFFSETTO:-0600
TZNAME:CST
DTSTART:20311102T070000
END:STANDARD
END:VTIMEZONE
BEGIN:VEVENT
DTSTART;TZID=America/Chicago:20260423T180000
DTEND;TZID=America/Chicago:20260423T193000
DTSTAMP:20260421T005456
CREATED:20251219T171900Z
LAST-MODIFIED:20260324T193303Z
UID:10001103-1776967200-1776972600@mcferrin.tamu.edu
SUMMARY:The Last Word
DESCRIPTION:
URL:https://mcferrin.tamu.edu/event/the-last-word/
ATTACH;FMTTYPE=image/png:https://mcferrin.tamu.edu/wp-content/uploads/2021/08/NEW-The-Last-Word.png
END:VEVENT
BEGIN:VEVENT
DTSTART;VALUE=DATE:20260429
DTEND;VALUE=DATE:20260430
DTSTAMP:20260421T005456
CREATED:20251219T172052Z
LAST-MODIFIED:20251219T172052Z
UID:10001105-1777420800-1777507199@mcferrin.tamu.edu
SUMMARY:Reading Day
DESCRIPTION:
URL:https://mcferrin.tamu.edu/event/reading-day-8/
END:VEVENT
BEGIN:VEVENT
DTSTART;TZID=America/Chicago:20260429T090000
DTEND;TZID=America/Chicago:20260429T190000
DTSTAMP:20260421T005456
CREATED:20251219T171936Z
LAST-MODIFIED:20260120T171320Z
UID:10001104-1777453200-1777489200@mcferrin.tamu.edu
SUMMARY:McFerrin Mashup
DESCRIPTION:
URL:https://mcferrin.tamu.edu/event/mcferrin-mashup-8/
LOCATION:McFerrin Center\, 1700 Research Pkwy\, Suite 130\, College Station\, TX\, 77845\, United States
ATTACH;FMTTYPE=image/png:https://mcferrin.tamu.edu/wp-content/uploads/2021/11/Logo.png
END:VEVENT
BEGIN:VEVENT
DTSTART;VALUE=DATE:20260430
DTEND;VALUE=DATE:20260502
DTSTAMP:20260421T005456
CREATED:20251219T172125Z
LAST-MODIFIED:20251219T172125Z
UID:10001106-1777507200-1777679999@mcferrin.tamu.edu
SUMMARY:Final Exams
DESCRIPTION:
URL:https://mcferrin.tamu.edu/event/final-exams/
END:VEVENT
BEGIN:VEVENT
DTSTART;VALUE=DATE:20260501
DTEND;VALUE=DATE:20260502
DTSTAMP:20260421T005456
CREATED:20251219T170511Z
LAST-MODIFIED:20251219T170515Z
UID:10001098-1777593600-1777679999@mcferrin.tamu.edu
SUMMARY:Aggie Angel Network
DESCRIPTION:
URL:https://mcferrin.tamu.edu/event/aggie-angel-network-26/
ATTACH;FMTTYPE=image/png:https://mcferrin.tamu.edu/wp-content/uploads/2025/12/AggieAngelNetwork.png
END:VEVENT
BEGIN:VEVENT
DTSTART;VALUE=DATE:20260504
DTEND;VALUE=DATE:20260506
DTSTAMP:20260421T005456
CREATED:20251219T172215Z
LAST-MODIFIED:20251219T172215Z
UID:10001107-1777852800-1778025599@mcferrin.tamu.edu
SUMMARY:Final Exams
DESCRIPTION:
URL:https://mcferrin.tamu.edu/event/final-exams-2/
END:VEVENT
BEGIN:VEVENT
DTSTART;VALUE=DATE:20260515
DTEND;VALUE=DATE:20260516
DTSTAMP:20260421T005456
CREATED:20251219T172519Z
LAST-MODIFIED:20251219T173216Z
UID:10001113-1778803200-1778889599@mcferrin.tamu.edu
SUMMARY:2026 Aggie 100: Applications Open
DESCRIPTION:
URL:https://mcferrin.tamu.edu/event/aggie-100-applications-open-4/
ATTACH;FMTTYPE=image/jpeg:https://mcferrin.tamu.edu/wp-content/uploads/2021/08/A100.jpg
END:VEVENT
BEGIN:VEVENT
DTSTART;VALUE=DATE:20260519
DTEND;VALUE=DATE:20260520
DTSTAMP:20260421T005456
CREATED:20251201T150310Z
LAST-MODIFIED:20251201T150310Z
UID:10001009-1779148800-1779235199@mcferrin.tamu.edu
SUMMARY:Texas High School Ideas Challenge
DESCRIPTION:
URL:https://mcferrin.tamu.edu/event/texas-high-school-ideas-challenge-5/
ATTACH;FMTTYPE=image/png:https://mcferrin.tamu.edu/wp-content/uploads/2021/08/Ideas-Challenge-2023-01.png
END:VEVENT
BEGIN:VEVENT
DTSTART;VALUE=DATE:20260525
DTEND;VALUE=DATE:20260526
DTSTAMP:20260421T005456
CREATED:20251219T162856Z
LAST-MODIFIED:20251219T162856Z
UID:10001085-1779667200-1779753599@mcferrin.tamu.edu
SUMMARY:University Holiday
DESCRIPTION:
URL:https://mcferrin.tamu.edu/event/university-holiday-23/
END:VEVENT
BEGIN:VEVENT
DTSTART;VALUE=DATE:20260531
DTEND;VALUE=DATE:20260601
DTSTAMP:20260421T005456
CREATED:20251219T172703Z
LAST-MODIFIED:20251219T173307Z
UID:10001122-1780185600-1780271999@mcferrin.tamu.edu
SUMMARY:2026 Aggie 100: Nominations Close
DESCRIPTION:
URL:https://mcferrin.tamu.edu/event/aggie-100-nominations-close-4/
ATTACH;FMTTYPE=image/jpeg:https://mcferrin.tamu.edu/wp-content/uploads/2021/08/A100.jpg
END:VEVENT
BEGIN:VEVENT
DTSTART;VALUE=DATE:20260615
DTEND;VALUE=DATE:20260616
DTSTAMP:20260421T005456
CREATED:20251219T172814Z
LAST-MODIFIED:20251219T173024Z
UID:10001127-1781481600-1781567999@mcferrin.tamu.edu
SUMMARY:2026 Aggie 100: Applications Close
DESCRIPTION:
URL:https://mcferrin.tamu.edu/event/aggie-100-applications-close-4/
ATTACH;FMTTYPE=image/jpeg:https://mcferrin.tamu.edu/wp-content/uploads/2021/08/A100.jpg
END:VEVENT
BEGIN:VEVENT
DTSTART;VALUE=DATE:20260619
DTEND;VALUE=DATE:20260620
DTSTAMP:20260421T005456
CREATED:20251219T162916Z
LAST-MODIFIED:20251219T162916Z
UID:10001086-1781827200-1781913599@mcferrin.tamu.edu
SUMMARY:University Holiday
DESCRIPTION:
URL:https://mcferrin.tamu.edu/event/university-holiday-24/
END:VEVENT
BEGIN:VEVENT
DTSTART;VALUE=DATE:20260620
DTEND;VALUE=DATE:20260621
DTSTAMP:20260421T005456
CREATED:20251219T173354Z
LAST-MODIFIED:20251219T173354Z
UID:10001132-1781913600-1781999999@mcferrin.tamu.edu
SUMMARY:2027 Aggie 100: Nominations Open
DESCRIPTION:
URL:https://mcferrin.tamu.edu/event/2027-aggie-100-nominations-open/
ATTACH;FMTTYPE=image/jpeg:https://mcferrin.tamu.edu/wp-content/uploads/2021/08/A100.jpg
END:VEVENT
BEGIN:VEVENT
DTSTART;VALUE=DATE:20261201
DTEND;VALUE=DATE:20261202
DTSTAMP:20260421T005456
CREATED:20260318T210721Z
LAST-MODIFIED:20260318T210721Z
UID:10001153-1796083200-1796169599@mcferrin.tamu.edu
SUMMARY:Applications Open: Texas High School Ideas Challenge
DESCRIPTION:
URL:https://mcferrin.tamu.edu/event/applications-open-texas-high-school-ideas-challenge-2/2026-12-01/
ATTACH;FMTTYPE=image/png:https://mcferrin.tamu.edu/wp-content/uploads/2021/08/Ideas-Challenge-2023-01.png
END:VEVENT
BEGIN:VEVENT
DTSTART;VALUE=DATE:20270315
DTEND;VALUE=DATE:20270316
DTSTAMP:20260421T005456
CREATED:20260318T210339Z
LAST-MODIFIED:20260318T210339Z
UID:10001147-1805068800-1805155199@mcferrin.tamu.edu
SUMMARY:Applications Close: Texas High School Ideas Challenge
DESCRIPTION:
URL:https://mcferrin.tamu.edu/event/applications-close-texas-high-school-ideas-challenge-2-2/2027-03-15/
ATTACH;FMTTYPE=image/png:https://mcferrin.tamu.edu/wp-content/uploads/2021/08/Ideas-Challenge-2023-01.png
END:VEVENT
BEGIN:VEVENT
DTSTART;VALUE=DATE:20271201
DTEND;VALUE=DATE:20271202
DTSTAMP:20260421T005456
CREATED:20260318T210721Z
LAST-MODIFIED:20260318T210721Z
UID:10001154-1827619200-1827705599@mcferrin.tamu.edu
SUMMARY:Applications Open: Texas High School Ideas Challenge
DESCRIPTION:
URL:https://mcferrin.tamu.edu/event/applications-open-texas-high-school-ideas-challenge-2/2027-12-01/
ATTACH;FMTTYPE=image/png:https://mcferrin.tamu.edu/wp-content/uploads/2021/08/Ideas-Challenge-2023-01.png
END:VEVENT
BEGIN:VEVENT
DTSTART;VALUE=DATE:20280315
DTEND;VALUE=DATE:20280316
DTSTAMP:20260421T005456
CREATED:20260318T210339Z
LAST-MODIFIED:20260318T210339Z
UID:10001148-1836691200-1836777599@mcferrin.tamu.edu
SUMMARY:Applications Close: Texas High School Ideas Challenge
DESCRIPTION:
URL:https://mcferrin.tamu.edu/event/applications-close-texas-high-school-ideas-challenge-2-2/2028-03-15/
ATTACH;FMTTYPE=image/png:https://mcferrin.tamu.edu/wp-content/uploads/2021/08/Ideas-Challenge-2023-01.png
END:VEVENT
BEGIN:VEVENT
DTSTART;VALUE=DATE:20281201
DTEND;VALUE=DATE:20281202
DTSTAMP:20260421T005456
CREATED:20260318T210721Z
LAST-MODIFIED:20260318T210721Z
UID:10001155-1859241600-1859327999@mcferrin.tamu.edu
SUMMARY:Applications Open: Texas High School Ideas Challenge
DESCRIPTION:
URL:https://mcferrin.tamu.edu/event/applications-open-texas-high-school-ideas-challenge-2/2028-12-01/
ATTACH;FMTTYPE=image/png:https://mcferrin.tamu.edu/wp-content/uploads/2021/08/Ideas-Challenge-2023-01.png
END:VEVENT
BEGIN:VEVENT
DTSTART;VALUE=DATE:20290315
DTEND;VALUE=DATE:20290316
DTSTAMP:20260421T005456
CREATED:20260318T210339Z
LAST-MODIFIED:20260318T210339Z
UID:10001149-1868227200-1868313599@mcferrin.tamu.edu
SUMMARY:Applications Close: Texas High School Ideas Challenge
DESCRIPTION:
URL:https://mcferrin.tamu.edu/event/applications-close-texas-high-school-ideas-challenge-2-2/2029-03-15/
ATTACH;FMTTYPE=image/png:https://mcferrin.tamu.edu/wp-content/uploads/2021/08/Ideas-Challenge-2023-01.png
END:VEVENT
BEGIN:VEVENT
DTSTART;VALUE=DATE:20291201
DTEND;VALUE=DATE:20291202
DTSTAMP:20260421T005456
CREATED:20260318T210721Z
LAST-MODIFIED:20260318T210721Z
UID:10001156-1890777600-1890863999@mcferrin.tamu.edu
SUMMARY:Applications Open: Texas High School Ideas Challenge
DESCRIPTION:
URL:https://mcferrin.tamu.edu/event/applications-open-texas-high-school-ideas-challenge-2/2029-12-01/
ATTACH;FMTTYPE=image/png:https://mcferrin.tamu.edu/wp-content/uploads/2021/08/Ideas-Challenge-2023-01.png
END:VEVENT
BEGIN:VEVENT
DTSTART;VALUE=DATE:20300315
DTEND;VALUE=DATE:20300316
DTSTAMP:20260421T005456
CREATED:20260318T210339Z
LAST-MODIFIED:20260318T210339Z
UID:10001150-1899763200-1899849599@mcferrin.tamu.edu
SUMMARY:Applications Close: Texas High School Ideas Challenge
DESCRIPTION:
URL:https://mcferrin.tamu.edu/event/applications-close-texas-high-school-ideas-challenge-2-2/2030-03-15/
ATTACH;FMTTYPE=image/png:https://mcferrin.tamu.edu/wp-content/uploads/2021/08/Ideas-Challenge-2023-01.png
END:VEVENT
BEGIN:VEVENT
DTSTART;VALUE=DATE:20301201
DTEND;VALUE=DATE:20301202
DTSTAMP:20260421T005456
CREATED:20260318T210721Z
LAST-MODIFIED:20260318T210721Z
UID:10001157-1922313600-1922399999@mcferrin.tamu.edu
SUMMARY:Applications Open: Texas High School Ideas Challenge
DESCRIPTION:
URL:https://mcferrin.tamu.edu/event/applications-open-texas-high-school-ideas-challenge-2/2030-12-01/
ATTACH;FMTTYPE=image/png:https://mcferrin.tamu.edu/wp-content/uploads/2021/08/Ideas-Challenge-2023-01.png
END:VEVENT
BEGIN:VEVENT
DTSTART;VALUE=DATE:20310315
DTEND;VALUE=DATE:20310316
DTSTAMP:20260421T005456
CREATED:20260318T210339Z
LAST-MODIFIED:20260318T210339Z
UID:10001151-1931299200-1931385599@mcferrin.tamu.edu
SUMMARY:Applications Close: Texas High School Ideas Challenge
DESCRIPTION:
URL:https://mcferrin.tamu.edu/event/applications-close-texas-high-school-ideas-challenge-2-2/2031-03-15/
ATTACH;FMTTYPE=image/png:https://mcferrin.tamu.edu/wp-content/uploads/2021/08/Ideas-Challenge-2023-01.png
END:VEVENT
END:VCALENDAR